BEGIN:VCALENDAR
VERSION:2.0
PRODID:-//Tukios.com/
BEGIN:VEVENT
UID:10cfc350-8270-45c6-a507-bb63d9e4237a@www.smithbucknerfh.com
DTSTAMP:20260424T212334Z
DTSTART:20260427T150000Z
DTEND:20260427T160000Z
SUMMARY:Graveside Service
DESCRIPTION:
URL:https://www.smithbucknerfh.com/obituaries/r-anders
LOCATION: 5442 Carbonton Rd  Sanford NC 27330
GEO:35.5070282;-79.2958463
END:VEVENT
END:VCALENDAR