BEGIN:VCALENDAR
VERSION:2.0
PRODID:-//Tukios.com/
BEGIN:VEVENT
UID:508df360-1f5d-484e-9ce2-cd9faa3da0b0@www.smithbucknerfh.com
DTSTAMP:20260421T224339Z
DTSTART:20260423T190000Z
DTEND:20260423T200000Z
SUMMARY:Funeral Service
DESCRIPTION:
URL:https://www.smithbucknerfh.com/obituaries/coy-caudle
LOCATION: 190 N Church St  Goldston NC 27252
GEO:35.5932028;-79.3283539
END:VEVENT
END:VCALENDAR