BEGIN:VCALENDAR
VERSION:2.0
PRODID:-//Tukios.com/
BEGIN:VEVENT
UID:c7820a36-2d7c-466f-bc5d-9c33dd07ca21@www.smithbucknerfh.com
DTSTAMP:20260421T224633Z
DTSTART:20260422T220000Z
DTEND:20260423T000000Z
SUMMARY:Visitation
DESCRIPTION:
URL:https://www.smithbucknerfh.com/obituaries/coy-caudle
LOCATION:Smith & Buckner Funeral Home Chapel 230 N 2nd Ave  Siler City NC 
	27344
GEO:35.7252176;-79.4629618
END:VEVENT
END:VCALENDAR